BEGIN:VCALENDAR
VERSION:2.0
PRODID:-//SVP Bern //NONSGML Events //EN
CALSCALE:GREGORIAN
X-WR-CALNAME:SVP Bern
BEGIN:VEVENT
CREATED:20220803T085613Z
UID:15143
DTEND:20230522T210000
DTSTART:20230522T200000
DTSTAMP:20260421T093416Z
LOCATION:
DESCRIPTION:
SUMMARY:Delegiertenversammlung SVP Kanton Bern
ORGANIZER:
URL;VALUE=URI:https://www.svp-bern.ch/aktuell/termine/delegiertenversammlung-svp-kanton-bern-25/
TRANSP:OPAQUE
END:VEVENT
END:VCALENDAR
