BEGIN:VCALENDAR
VERSION:2.0
PRODID:-//SVP Bern //NONSGML Events //EN
CALSCALE:GREGORIAN
X-WR-CALNAME:SVP Bern
BEGIN:VEVENT
CREATED:20220803T085844Z
UID:15147
DTEND:20230914T210000
DTSTART:20230914T200000
DTSTAMP:20260421T055006Z
LOCATION:
DESCRIPTION:
SUMMARY:Delegiertenversammlung SVP Kanton Bern
ORGANIZER:
URL;VALUE=URI:https://www.svp-bern.ch/aktuell/termine/delegiertenversammlung-svp-kanton-bern-27/
TRANSP:OPAQUE
END:VEVENT
END:VCALENDAR
