BEGIN:VCALENDAR
VERSION:2.0
PRODID:-//SVP Bern //NONSGML Events //EN
CALSCALE:GREGORIAN
X-WR-CALNAME:SVP Bern
BEGIN:VEVENT
CREATED:20220803T094828Z
UID:15170
DTEND:20230316T000000
DTSTART:20230306T000000
DTSTAMP:20260421T085401Z
LOCATION:
DESCRIPTION:
SUMMARY:Start: Session Grosser Rat
ORGANIZER:
URL;VALUE=URI:https://www.svp-bern.ch/aktuell/termine/start-session-grosser-rat-13/
TRANSP:OPAQUE
END:VEVENT
END:VCALENDAR
