BEGIN:VCALENDAR
VERSION:2.0
PRODID:-//SVP Bern //NONSGML Events //EN
CALSCALE:GREGORIAN
X-WR-CALNAME:SVP Bern
BEGIN:VEVENT
CREATED:20220803T095829Z
UID:15184
DTEND:20231022T000000
DTSTART:20231022T000000
DTSTAMP:20260420T133156Z
LOCATION:
DESCRIPTION:
SUMMARY:Nationalratswahlen
ORGANIZER:
URL;VALUE=URI:https://www.svp-bern.ch/aktuell/termine/nationalratswahlen/
TRANSP:OPAQUE
END:VEVENT
END:VCALENDAR
