BEGIN:VCALENDAR
VERSION:2.0
PRODID:-//SVP Bern //NONSGML Events //EN
CALSCALE:GREGORIAN
X-WR-CALNAME:SVP Bern
BEGIN:VEVENT
CREATED:20230906T095747Z
UID:17107
DTEND:20231021T130000
DTSTART:20231021T080000
DTSTAMP:20260420T132128Z
LOCATION:Coop-Areal\, 3052 Zollikofen
DESCRIPTION:https://www.svp-zollikofen.ch/
SUMMARY:SVP Zollikofen &#8211\; Gmüesmärit
ORGANIZER:
URL;VALUE=URI:https://www.svp-bern.ch/aktuell/termine/svp-zollikofen-gmueesmaerit/
TRANSP:OPAQUE
END:VEVENT
END:VCALENDAR
