BEGIN:VCALENDAR
VERSION:2.0
PRODID:-//SVP Bern //NONSGML Events //EN
CALSCALE:GREGORIAN
X-WR-CALNAME:SVP Bern
BEGIN:VEVENT
CREATED:20240925T095728Z
UID:19357
DTEND:20241002T210000
DTSTART:20241002T200000
DTSTAMP:20260421T074104Z
LOCATION:Restaurant Adler\, Riggisberg
DESCRIPTION: 
SUMMARY:SVP Riggisberg &#8211\; SVP bi de Lüt (Sessionsrückblick)
ORGANIZER:
URL;VALUE=URI:https://www.svp-bern.ch/aktuell/termine/svp-riggisberg-svp-bi-de-luet-sessionsrueckblick/
TRANSP:OPAQUE
END:VEVENT
END:VCALENDAR
