BEGIN:VCALENDAR
VERSION:2.0
PRODID:-//SVP Bern //NONSGML Events //EN
CALSCALE:GREGORIAN
X-WR-CALNAME:SVP Bern
BEGIN:VEVENT
CREATED:20260422T100548Z
UID:21808
DTEND:20260503T000000
DTSTART:20260424T000000
DTSTAMP:20260422T141438Z
LOCATION:
DESCRIPTION:
SUMMARY:BEA
ORGANIZER:
URL;VALUE=URI:https://www.svp-bern.ch/aktuell/termine/bea-4/
TRANSP:OPAQUE
END:VEVENT
END:VCALENDAR
